BEGIN:VCALENDAR
VERSION:2.0
PRODID:-//ZCCC: Z Car Club of Colorado - ECPv6.15.20//NONSGML v1.0//EN
CALSCALE:GREGORIAN
METHOD:PUBLISH
X-ORIGINAL-URL:https://www.zccc.org
X-WR-CALDESC:Events for ZCCC: Z Car Club of Colorado
REFRESH-INTERVAL;VALUE=DURATION:PT1H
X-Robots-Tag:noindex
X-PUBLISHED-TTL:PT1H
BEGIN:VTIMEZONE
TZID:America/Denver
BEGIN:DAYLIGHT
TZOFFSETFROM:-0700
TZOFFSETTO:-0600
TZNAME:MDT
DTSTART:20190310T090000
END:DAYLIGHT
BEGIN:STANDARD
TZOFFSETFROM:-0600
TZOFFSETTO:-0700
TZNAME:MST
DTSTART:20191103T080000
END:STANDARD
BEGIN:DAYLIGHT
TZOFFSETFROM:-0700
TZOFFSETTO:-0600
TZNAME:MDT
DTSTART:20200308T090000
END:DAYLIGHT
BEGIN:STANDARD
TZOFFSETFROM:-0600
TZOFFSETTO:-0700
TZNAME:MST
DTSTART:20201101T080000
END:STANDARD
BEGIN:DAYLIGHT
TZOFFSETFROM:-0700
TZOFFSETTO:-0600
TZNAME:MDT
DTSTART:20210314T090000
END:DAYLIGHT
BEGIN:STANDARD
TZOFFSETFROM:-0600
TZOFFSETTO:-0700
TZNAME:MST
DTSTART:20211107T080000
END:STANDARD
END:VTIMEZONE
BEGIN:VEVENT
DTSTART;TZID=America/Denver:20201212T180000
DTEND;TZID=America/Denver:20201212T200000
DTSTAMP:20260425T043323
CREATED:20201029T233409Z
LAST-MODIFIED:20201029T233409Z
UID:39871-1607796000-1607803200@www.zccc.org
SUMMARY:Zccc Annual virtual holiday/UGLY SWEATER PARTY
DESCRIPTION:  \nZccc Annual virtual holiday/UGLY SWEATER PARTY \nDate:  December 12\, 2020 \nTime:   6:00 PM \nLOCATION:  VIA ZOOM \nHOST:  NATE DERMAN \nLOCATION:  VIA ZOOM \nTIME: 6:00 PM \n  \nPlease join us using this Zoom Link and/or follow the instructions in the Odometer to call in via phone. \n  \nJoin Zoom Meeting \nhttps://zoom.us/j/91875246426?pwd=ZUlMYWhpZ3FTSTdVYkFIYncyMTJJZz09 \n  \nMeeting ID: 918 7524 6426 \nPasscode: 123456 \n  \nThe tradition continues! The ZCCC Annual Holiday Party that we host every year\, this year will be virtual via zoom.  Don’t let a pandemic or weather keep you away.  Join us from the comfort of your home with your favorite beverage in hand and your ugly sweater (optional)\, to celebrate the holidays with your fellow ZCCC club members.   This year no gift exchange\, no prize for ugly sweaters.  Just a holiday get together to keep the tradition alive and share holiday cheer with your Z friends. We hope you will attend. \n  \n  \n  \n  \n 
URL:https://www.zccc.org/event/zccc-annual-virtual-holiday-ugly-sweater-party/
LOCATION:CO
CATEGORIES:Social
END:VEVENT
END:VCALENDAR