BEGIN:VCALENDAR
VERSION:2.0
PRODID:-//ZCCC: Z Car Club of Colorado - ECPv6.15.20//NONSGML v1.0//EN
CALSCALE:GREGORIAN
METHOD:PUBLISH
X-ORIGINAL-URL:https://www.zccc.org
X-WR-CALDESC:Events for ZCCC: Z Car Club of Colorado
REFRESH-INTERVAL;VALUE=DURATION:PT1H
X-Robots-Tag:noindex
X-PUBLISHED-TTL:PT1H
BEGIN:VTIMEZONE
TZID:America/Denver
BEGIN:DAYLIGHT
TZOFFSETFROM:-0700
TZOFFSETTO:-0600
TZNAME:MDT
DTSTART:20190310T090000
END:DAYLIGHT
BEGIN:STANDARD
TZOFFSETFROM:-0600
TZOFFSETTO:-0700
TZNAME:MST
DTSTART:20191103T080000
END:STANDARD
BEGIN:DAYLIGHT
TZOFFSETFROM:-0700
TZOFFSETTO:-0600
TZNAME:MDT
DTSTART:20200308T090000
END:DAYLIGHT
BEGIN:STANDARD
TZOFFSETFROM:-0600
TZOFFSETTO:-0700
TZNAME:MST
DTSTART:20201101T080000
END:STANDARD
BEGIN:DAYLIGHT
TZOFFSETFROM:-0700
TZOFFSETTO:-0600
TZNAME:MDT
DTSTART:20210314T090000
END:DAYLIGHT
BEGIN:STANDARD
TZOFFSETFROM:-0600
TZOFFSETTO:-0700
TZNAME:MST
DTSTART:20211107T080000
END:STANDARD
END:VTIMEZONE
BEGIN:VEVENT
DTSTART;TZID=America/Denver:20200915T022048
DTEND;TZID=America/Denver:20200915T022048
DTSTAMP:20260425T093444
CREATED:20200603T222839Z
LAST-MODIFIED:20200915T022048Z
UID:38916-1600136448-1600136448@www.zccc.org
SUMMARY:Z Drive Fall Colors -CANCELED
DESCRIPTION:
URL:https://www.zccc.org/event/z-drive-fall-colors/
LOCATION:CO
CATEGORIES:Scenic Drive,Social
ORGANIZER;CN="ZCCC":MAILTO:admin@zccc.org
END:VEVENT
END:VCALENDAR