BEGIN:VCALENDAR
VERSION:2.0
PRODID:-//ZCCC: Z Car Club of Colorado - ECPv6.15.20//NONSGML v1.0//EN
CALSCALE:GREGORIAN
METHOD:PUBLISH
X-WR-CALNAME:ZCCC: Z Car Club of Colorado
X-ORIGINAL-URL:https://www.zccc.org
X-WR-CALDESC:Events for ZCCC: Z Car Club of Colorado
REFRESH-INTERVAL;VALUE=DURATION:PT1H
X-Robots-Tag:noindex
X-PUBLISHED-TTL:PT1H
BEGIN:VTIMEZONE
TZID:America/Denver
BEGIN:DAYLIGHT
TZOFFSETFROM:-0700
TZOFFSETTO:-0600
TZNAME:MDT
DTSTART:20190310T090000
END:DAYLIGHT
BEGIN:STANDARD
TZOFFSETFROM:-0600
TZOFFSETTO:-0700
TZNAME:MST
DTSTART:20191103T080000
END:STANDARD
BEGIN:DAYLIGHT
TZOFFSETFROM:-0700
TZOFFSETTO:-0600
TZNAME:MDT
DTSTART:20200308T090000
END:DAYLIGHT
BEGIN:STANDARD
TZOFFSETFROM:-0600
TZOFFSETTO:-0700
TZNAME:MST
DTSTART:20201101T080000
END:STANDARD
BEGIN:DAYLIGHT
TZOFFSETFROM:-0700
TZOFFSETTO:-0600
TZNAME:MDT
DTSTART:20210314T090000
END:DAYLIGHT
BEGIN:STANDARD
TZOFFSETFROM:-0600
TZOFFSETTO:-0700
TZNAME:MST
DTSTART:20211107T080000
END:STANDARD
END:VTIMEZONE
BEGIN:VEVENT
DTSTART;TZID=America/Denver:20200815T083000
DTEND;TZID=America/Denver:20200815T170000
DTSTAMP:20260425T105944
CREATED:20200603T222655Z
LAST-MODIFIED:20200826T165031Z
UID:38913-1597480200-1597510800@www.zccc.org
SUMMARY:Z Drive Southeast
DESCRIPTION:When: Saturday\, August 15\, 8:30 am…\nWhere: Tipsy’s Liquor World\, (5869 S. Alkire Street\, Littleton\, CO 80127)\nHost: Sanders\nCost: $0.00\nGrab your favorite co-pilot and lets go for a drive. We will be heading for a spin through Douglas and Elbert Counties. For those looking for a short drive\, there will be opportuni-ties to shorten the drive. The short drives are: When we reach Hwy 85\, Turn North and head back toward Denver or wait till we get to Sedalia. Another option will be when we reach Monument at Hwy 105 and I-25 for a restroom break.\nWe will continue east on Hwy 105 to the east side of CO Springs continuing our drive on the country roads making our way back north to Hwy 86 before turning homeward.\nToday’s drive is a ½ day (3.5 to 4 hrs. long). With social distancing guidelines being mandatory because of Covid 19 I’m not comfortable stopping somewhere to eat so lunch is not planned for. Please bring drink and snacks. Also bring radios (channel 5.30) so we can communicate. For additional info and/or to let us know you are going\, please contact us.\nTammy
URL:https://www.zccc.org/event/z-drive-southeast/
LOCATION:Master Drive\, 3051 S Rooney Rd\, Morrison\, CO\, 80465\, United States
CATEGORIES:Scenic Drive,Social
ORGANIZER;CN="ZCCC":MAILTO:admin@zccc.org
END:VEVENT
END:VCALENDAR