BEGIN:VCALENDAR
VERSION:2.0
PRODID:-//ZCCC: Z Car Club of Colorado - ECPv6.15.20//NONSGML v1.0//EN
CALSCALE:GREGORIAN
METHOD:PUBLISH
X-WR-CALNAME:ZCCC: Z Car Club of Colorado
X-ORIGINAL-URL:https://www.zccc.org
X-WR-CALDESC:Events for ZCCC: Z Car Club of Colorado
REFRESH-INTERVAL;VALUE=DURATION:PT1H
X-Robots-Tag:noindex
X-PUBLISHED-TTL:PT1H
BEGIN:VTIMEZONE
TZID:America/Denver
BEGIN:DAYLIGHT
TZOFFSETFROM:-0700
TZOFFSETTO:-0600
TZNAME:MDT
DTSTART:20190310T090000
END:DAYLIGHT
BEGIN:STANDARD
TZOFFSETFROM:-0600
TZOFFSETTO:-0700
TZNAME:MST
DTSTART:20191103T080000
END:STANDARD
BEGIN:DAYLIGHT
TZOFFSETFROM:-0700
TZOFFSETTO:-0600
TZNAME:MDT
DTSTART:20200308T090000
END:DAYLIGHT
BEGIN:STANDARD
TZOFFSETFROM:-0600
TZOFFSETTO:-0700
TZNAME:MST
DTSTART:20201101T080000
END:STANDARD
BEGIN:DAYLIGHT
TZOFFSETFROM:-0700
TZOFFSETTO:-0600
TZNAME:MDT
DTSTART:20210314T090000
END:DAYLIGHT
BEGIN:STANDARD
TZOFFSETFROM:-0600
TZOFFSETTO:-0700
TZNAME:MST
DTSTART:20211107T080000
END:STANDARD
END:VTIMEZONE
BEGIN:VEVENT
DTSTART;TZID=America/Denver:20200516T093000
DTEND;TZID=America/Denver:20200516T140000
DTSTAMP:20260425T153955
CREATED:20200423T001410Z
LAST-MODIFIED:20200512T170119Z
UID:38786-1589621400-1589637600@www.zccc.org
SUMMARY:Food Donation and Parade Benefitting FISH
DESCRIPTION:When: Saturday May 16\, 2020\, 9:45 am\nWhere: Steele Elementary School: 320 Marion Street Parkway\, Denver\nHost: Nate Derman\nCost: Food Donation \nThis is a fun\, live event incorporating a drive and helping homebound people through donations. This gives us an opportunity to drive our Zs (or other vehicles) in a group\, abide by social distancing and do our part to help the community and feed the hungry. \nWe will meet at Steele Street Elementary School 320 Marion Street Parkway\, Denver\nat 9:45 AM and depart at 10:00 AM.  We will leave as a group and parade around Washington Park\, honking and waiving if you want.  If you want to make a sign it can say ZCCC supports FISH of  East Denver or Z signage. Hopefully tops down\, weather permitting. We will then proceed to their first location\, United Church Of Christ\, 400 S. Williams Street\, Denver and drop off half of our donations.  We will then drive to their second location\, Epiphany Lutheran Church located at 790 S. Corona Street\, and drop off the remainder of our donations.  These are small churches and don’t have a lot of storage space so whatever you can fit in your trunk will be sufficient. \nNeeded Items: (Unopened and NOT outdated) \n\nCanned meats (chicken\, tuna\, salmon\, beef)\nCanned stew\, dinners (Chile\, Dinty Moore\, Hormel)\nPeanut butter\, Jam/Jelly\nCanned Fruit\, Fruit Juice\nCereal\nSmall Shampoos & Conditioners\, Deodorant\, Toothpaste & Toothbrushes\nFeminine napkins\nDiapers (size 4-5)\n\nPlease check out their website http://www.fishofeastdenver.org/ to find out more about this valuable organization and see the adjoining poster to this article. \nFISH of East Denver is a small\, completely volunteer\, registered 501(c)(3) non-profit organization that has operated continuously in East Denver since 1974. The FISH idea began in England in 1961 and came to the United States in 1964. FISH of East Denver consists of 2 food pantries housed at two Washington Park area churches. They deliver emergency groceries three times a week (Mondays\, Wednesdays\, Fridays) to homebound people who live in East Denver\, from Broadway to Yosemite\, south of I-70 to Yale Ave/Hampden. \nPlease join me and other members for our next social distancing event.  I hope to see you there.
URL:https://www.zccc.org/event/food-donation-and-parade-benefitting-fish/
LOCATION:CO
CATEGORIES:Social
ORGANIZER;CN="ZCCC":MAILTO:admin@zccc.org
END:VEVENT
END:VCALENDAR