BEGIN:VCALENDAR
VERSION:2.0
PRODID:-//ZCCC: Z Car Club of Colorado - ECPv6.15.20//NONSGML v1.0//EN
CALSCALE:GREGORIAN
METHOD:PUBLISH
X-WR-CALNAME:ZCCC: Z Car Club of Colorado
X-ORIGINAL-URL:https://www.zccc.org
X-WR-CALDESC:Events for ZCCC: Z Car Club of Colorado
REFRESH-INTERVAL;VALUE=DURATION:PT1H
X-Robots-Tag:noindex
X-PUBLISHED-TTL:PT1H
BEGIN:VTIMEZONE
TZID:America/Denver
BEGIN:DAYLIGHT
TZOFFSETFROM:-0700
TZOFFSETTO:-0600
TZNAME:MDT
DTSTART:20190310T090000
END:DAYLIGHT
BEGIN:STANDARD
TZOFFSETFROM:-0600
TZOFFSETTO:-0700
TZNAME:MST
DTSTART:20191103T080000
END:STANDARD
BEGIN:DAYLIGHT
TZOFFSETFROM:-0700
TZOFFSETTO:-0600
TZNAME:MDT
DTSTART:20200308T090000
END:DAYLIGHT
BEGIN:STANDARD
TZOFFSETFROM:-0600
TZOFFSETTO:-0700
TZNAME:MST
DTSTART:20201101T080000
END:STANDARD
BEGIN:DAYLIGHT
TZOFFSETFROM:-0700
TZOFFSETTO:-0600
TZNAME:MDT
DTSTART:20210314T090000
END:DAYLIGHT
BEGIN:STANDARD
TZOFFSETFROM:-0600
TZOFFSETTO:-0700
TZNAME:MST
DTSTART:20211107T080000
END:STANDARD
END:VTIMEZONE
BEGIN:VEVENT
DTSTART;TZID=America/Denver:20200418T170000
DTEND;TZID=America/Denver:20200418T200000
DTSTAMP:20260425T170014
CREATED:20200402T013107Z
LAST-MODIFIED:20200403T220916Z
UID:38761-1587229200-1587240000@www.zccc.org
SUMMARY:ZCCC Happy Hour: The Home Edition
DESCRIPTION:Please join us for a virtual happy hour on April 18th at 5:00 PM. We will be getting together via the Zoom video-conferencing software (instructions below). \nZCCC Happy Hour: The Home Edition\nDate: April 18\, 2020\nTime: 5 PM\nLocation: Your Home\nAttire: Dressy PJs or whatever you feel like\nYour Virtual Hosts: Nate and Cheryle Derman\nRSVP: On the event page \nIt will be a fun way to get together while safely keeping our distance. We can catch up and talk about what we have been doing to stay busy and safe. Bring a tasty beverage and some food to munch on. We hope you join in as we miss all of you. \nYES\, YOU GET A POINT FOR ATTENDING. The board has approved this as a sanctioned event. Once you join the meeting\, we will add you to the sign-in sheet. \nZoom Instructions\nTo join the Zoom videoconference\, you may use a computer or smart phone\, which allows seeing and sharing screen and camera; or you can use any phone\, including land-lines\, to participate via audio only. \nJoin via the Zoom app (computer / smartphone)\nClick to join: https://us04web.zoom.us/j/5357969434?pwd=UVpyaEZ2MldSHo3VUFmNTVmbmVQUT09 \nOr directly from the Zoom app\, enter Meeting ID: 535 796 9434 \nIf you have never used Zoom before\, you will be prompted to download and run the Zoom app. Future meetings will then just open the app automatically. You do not have to create a Zoom account unless you want to host your own meetings. \nWhen joining the meeting (or preferably before)\, please test your audio. If you’re having audio issues\, or you hear other members having trouble\, use the Zoom chat window! \nJoin via Phone (cell or landline)\nCall the following number and follow the voice prompts.\nPhone: (646) 568-7788\nMeeting ID: 535 796 9434\nPassword: 157310 \nPlease don’t forget to RSVP below so we have an idea who will be attending.
URL:https://www.zccc.org/event/zccc-happy-hour-the-home-edition/
LOCATION:CO
CATEGORIES:Social
ORGANIZER;CN="ZCCC":MAILTO:admin@zccc.org
END:VEVENT
END:VCALENDAR