BEGIN:VCALENDAR
VERSION:2.0
PRODID:-//ZCCC: Z Car Club of Colorado - ECPv6.15.20//NONSGML v1.0//EN
CALSCALE:GREGORIAN
METHOD:PUBLISH
X-ORIGINAL-URL:https://www.zccc.org
X-WR-CALDESC:Events for ZCCC: Z Car Club of Colorado
REFRESH-INTERVAL;VALUE=DURATION:PT1H
X-Robots-Tag:noindex
X-PUBLISHED-TTL:PT1H
BEGIN:VTIMEZONE
TZID:America/Denver
BEGIN:DAYLIGHT
TZOFFSETFROM:-0700
TZOFFSETTO:-0600
TZNAME:MDT
DTSTART:20190310T090000
END:DAYLIGHT
BEGIN:STANDARD
TZOFFSETFROM:-0600
TZOFFSETTO:-0700
TZNAME:MST
DTSTART:20191103T080000
END:STANDARD
BEGIN:DAYLIGHT
TZOFFSETFROM:-0700
TZOFFSETTO:-0600
TZNAME:MDT
DTSTART:20200308T090000
END:DAYLIGHT
BEGIN:STANDARD
TZOFFSETFROM:-0600
TZOFFSETTO:-0700
TZNAME:MST
DTSTART:20201101T080000
END:STANDARD
BEGIN:DAYLIGHT
TZOFFSETFROM:-0700
TZOFFSETTO:-0600
TZNAME:MDT
DTSTART:20210314T090000
END:DAYLIGHT
BEGIN:STANDARD
TZOFFSETFROM:-0600
TZOFFSETTO:-0700
TZNAME:MST
DTSTART:20211107T080000
END:STANDARD
END:VTIMEZONE
BEGIN:VEVENT
DTSTART;TZID=America/Denver:20200317T130000
DTEND;TZID=America/Denver:20200317T150000
DTSTAMP:20260425T184543
CREATED:20200103T163225Z
LAST-MODIFIED:20200228T235149Z
UID:38530-1584450000-1584457200@www.zccc.org
SUMMARY:CANCELLED - Amazon Fulfillment Center Tour
DESCRIPTION:THIS EVENT HAS BEEN CANCELLED\nA few openings are left\, but you need to let me know\, no later than March 2nd \nHave you ever ordered items from Amazon? Do you ever wonder how they can get to you in a few days and in some cases\, just a few hours? \nTours are only available Monday thru Friday so I apologize this event is during the week. But I made it on a holiday…it’s St. Patrick’s Day and for many of you it is Spring Break. Hopefully you can make it. \nGroup Tours require a minimum of 20 people. The max is 30. So far 25 people have signed up\, so there’s still room for a few more. Bring a friend if you’d like. \nRequirements: Wear flat\, closed toe/heel shoes. Bring government issued ID (driver’s license). Any long hair must be tied back. Headsets will be provided so you can hear what the tour guide is saying. For your security\, your email address and date of birth will be needed in advance. \nDirections: From I-25\, go east on 144th to Washington St. Enter at 146th and Washington. Looking at the building from Washington\, park on the right in Lot Area #4. If you need handicap parking\, meet at        Lot #4 and I’ll direct you there. Please arrive no later than 1PM. \nYou’re going to see the magic that happens after you click “BUY”. Check out this video as to what you might see during the tour: \nhttps://www.youtube.com/watch?v=x-fyLCM_0Y4
URL:https://www.zccc.org/event/amazon-fulfillment-center-tour/
LOCATION:Amazon\, 14601 Grant St.\, Thornton\, CO\, 80023\, United States
CATEGORIES:Social
ORGANIZER;CN="ZCCC":MAILTO:admin@zccc.org
END:VEVENT
END:VCALENDAR