BEGIN:VCALENDAR
VERSION:2.0
PRODID:-//ZCCC: Z Car Club of Colorado - ECPv6.15.20//NONSGML v1.0//EN
CALSCALE:GREGORIAN
METHOD:PUBLISH
X-ORIGINAL-URL:https://www.zccc.org
X-WR-CALDESC:Events for ZCCC: Z Car Club of Colorado
REFRESH-INTERVAL;VALUE=DURATION:PT1H
X-Robots-Tag:noindex
X-PUBLISHED-TTL:PT1H
BEGIN:VTIMEZONE
TZID:America/Denver
BEGIN:DAYLIGHT
TZOFFSETFROM:-0700
TZOFFSETTO:-0600
TZNAME:MDT
DTSTART:20250309T090000
END:DAYLIGHT
BEGIN:STANDARD
TZOFFSETFROM:-0600
TZOFFSETTO:-0700
TZNAME:MST
DTSTART:20251102T080000
END:STANDARD
BEGIN:DAYLIGHT
TZOFFSETFROM:-0700
TZOFFSETTO:-0600
TZNAME:MDT
DTSTART:20260308T090000
END:DAYLIGHT
BEGIN:STANDARD
TZOFFSETFROM:-0600
TZOFFSETTO:-0700
TZNAME:MST
DTSTART:20261101T080000
END:STANDARD
BEGIN:DAYLIGHT
TZOFFSETFROM:-0700
TZOFFSETTO:-0600
TZNAME:MDT
DTSTART:20270314T090000
END:DAYLIGHT
BEGIN:STANDARD
TZOFFSETFROM:-0600
TZOFFSETTO:-0700
TZNAME:MST
DTSTART:20271107T080000
END:STANDARD
END:VTIMEZONE
BEGIN:VEVENT
DTSTART;TZID=America/Denver:20260627T100000
DTEND;TZID=America/Denver:20260627T150000
DTSTAMP:20260425T221359
CREATED:20260415T174530Z
LAST-MODIFIED:20260415T174704Z
UID:43285-1782554400-1782572400@www.zccc.org
SUMMARY:DRIVE AND DINE
DESCRIPTION:June 27\, 2026 \nHosted By Wendy Rhyne \nDrive route\, time and dining location to be shared in May. \nHold the date now to be part of the summer’s Drive and Dine Series \n 
URL:https://www.zccc.org/event/dine-and-drive/
CATEGORIES:Scenic Drive
END:VEVENT
BEGIN:VEVENT
DTSTART;TZID=America/Denver:20260722T090000
DTEND;TZID=America/Denver:20260722T130000
DTSTAMP:20260425T221359
CREATED:20260110T181637Z
LAST-MODIFIED:20260218T175555Z
UID:43187-1784710800-1784725200@www.zccc.org
SUMMARY:DRIVE TO CRIPPLE CREEK
DESCRIPTION:WHEN:  July 22\, 2026 \nTIME:     9:00 AM \nHOST:  Judy Gordon \nCOST:   Free \n  \nJoin us on a beautiful mountain drive to the Colorado Z Fest! \nOn Wednesday\, July 22\, 2026\, we will be taking a beautiful mountain drive to visit the\nfirst annual Colorado Z Fest! We will tentatively meet at 9:00 am\, then zoom our way\nthrough some back mountain roads to Cripple Creek\, which is hosting the 2026\nColorado Z Fest! Our drive will conclude with us having a delicious lunch. Conference\nattendees will stay\, and our fellow drivers will leisurely make their way back home.\nMore details to come at a later date.
URL:https://www.zccc.org/event/drive-to-cripple-creek-2/
CATEGORIES:Scenic Drive
END:VEVENT
BEGIN:VEVENT
DTSTART;TZID=America/Denver:20260822T100000
DTEND;TZID=America/Denver:20260822T150000
DTSTAMP:20260425T221400
CREATED:20260415T175051Z
LAST-MODIFIED:20260415T175051Z
UID:43290-1787392800-1787410800@www.zccc.org
SUMMARY:DRIVE AND DINE
DESCRIPTION:August 22\, 2026 \nHosted by Wendy Rhyne \nDrive route\, time and dining location to be shared in July. \nHold the date to be part of the summer’s Drive and Dine series.
URL:https://www.zccc.org/event/drive-and-dine/
CATEGORIES:Scenic Drive
END:VEVENT
BEGIN:VEVENT
DTSTART;VALUE=DATE:20260925
DTEND;VALUE=DATE:20260928
DTSTAMP:20260425T221400
CREATED:20260205T174025Z
LAST-MODIFIED:20260205T174025Z
UID:43215-1790294400-1790553599@www.zccc.org
SUMMARY:FALL LEAVES DRIVE
DESCRIPTION:ANNUAL FALL LEAVES DRIVE \nWhen:  September 25 to 27\, 2026 \nHost:  Jason Spegal \nPlease mark your calendar for this spectacular 3 day drive this fall. \nMore details when the event gets closer.
URL:https://www.zccc.org/event/fall-leaves-drive/
CATEGORIES:Scenic Drive
END:VEVENT
END:VCALENDAR