BEGIN:VCALENDAR
VERSION:2.0
PRODID:-//ZCCC: Z Car Club of Colorado - ECPv6.15.20//NONSGML v1.0//EN
CALSCALE:GREGORIAN
METHOD:PUBLISH
X-ORIGINAL-URL:https://www.zccc.org
X-WR-CALDESC:Events for ZCCC: Z Car Club of Colorado
REFRESH-INTERVAL;VALUE=DURATION:PT1H
X-Robots-Tag:noindex
X-PUBLISHED-TTL:PT1H
BEGIN:VTIMEZONE
TZID:America/Denver
BEGIN:DAYLIGHT
TZOFFSETFROM:-0700
TZOFFSETTO:-0600
TZNAME:MDT
DTSTART:20190310T090000
END:DAYLIGHT
BEGIN:STANDARD
TZOFFSETFROM:-0600
TZOFFSETTO:-0700
TZNAME:MST
DTSTART:20191103T080000
END:STANDARD
BEGIN:DAYLIGHT
TZOFFSETFROM:-0700
TZOFFSETTO:-0600
TZNAME:MDT
DTSTART:20200308T090000
END:DAYLIGHT
BEGIN:STANDARD
TZOFFSETFROM:-0600
TZOFFSETTO:-0700
TZNAME:MST
DTSTART:20201101T080000
END:STANDARD
BEGIN:DAYLIGHT
TZOFFSETFROM:-0700
TZOFFSETTO:-0600
TZNAME:MDT
DTSTART:20210314T090000
END:DAYLIGHT
BEGIN:STANDARD
TZOFFSETFROM:-0600
TZOFFSETTO:-0700
TZNAME:MST
DTSTART:20211107T080000
END:STANDARD
END:VTIMEZONE
BEGIN:VEVENT
DTSTART;TZID=America/Denver:20200718T083000
DTEND;TZID=America/Denver:20200718T170000
DTSTAMP:20260425T173743
CREATED:20200603T222407Z
LAST-MODIFIED:20200802T023106Z
UID:38911-1595061000-1595091600@www.zccc.org
SUMMARY:Z Drive and Donation to Children’s Hospital Colorado
DESCRIPTION:The 11th Annual Bad Does Good Car Show and Toy Drive has been postponed. The Corvette club is looking at and hoping to hold it in September.  I don’t think we should let that stop us!  Let’s take a drive to drop off the toys we have been collecting over the past 6 months and enjoy the morning out on the road exploring Boulder and Larimer counties. \nMeeting spot: Furniture Row parking lot \nWish list details:  Here is the link to Children’s Hospital Wish Lists.  We will be dropping our donations at the North Campus (see page 5). \nFrom here we will head west to Boulder County and North to Laporte exploring the    country roads for a ~2.5 hr. drive.  At any time you feel you need to turn and head toward home there are lots of options by heading east to one of the following towns; Longmont\, Berthoud\, Loveland or Fort Collins. \nBrighton to Laporte 77.4 miles\nLaporte to Boulder 64.1 miles \nThe drive is less then a ½ day and social distancing guidelines in place\, stopping for food may not be an option.  Please bring drink\, snacks and radios so we can communicate. For additional info and/or to let me know you are going\, please contact us. Tammy.
URL:https://www.zccc.org/event/z-drive-and-donation-to-childrens-hospital-colorado/
CATEGORIES:Scenic Drive,Social
ORGANIZER;CN="ZCCC":MAILTO:admin@zccc.org
END:VEVENT
END:VCALENDAR