BEGIN:VCALENDAR
VERSION:2.0
PRODID:-//ZCCC: Z Car Club of Colorado - ECPv6.15.20//NONSGML v1.0//EN
CALSCALE:GREGORIAN
METHOD:PUBLISH
X-ORIGINAL-URL:https://www.zccc.org
X-WR-CALDESC:Events for ZCCC: Z Car Club of Colorado
REFRESH-INTERVAL;VALUE=DURATION:PT1H
X-Robots-Tag:noindex
X-PUBLISHED-TTL:PT1H
BEGIN:VTIMEZONE
TZID:America/Denver
BEGIN:DAYLIGHT
TZOFFSETFROM:-0700
TZOFFSETTO:-0600
TZNAME:MDT
DTSTART:20190310T090000
END:DAYLIGHT
BEGIN:STANDARD
TZOFFSETFROM:-0600
TZOFFSETTO:-0700
TZNAME:MST
DTSTART:20191103T080000
END:STANDARD
BEGIN:DAYLIGHT
TZOFFSETFROM:-0700
TZOFFSETTO:-0600
TZNAME:MDT
DTSTART:20200308T090000
END:DAYLIGHT
BEGIN:STANDARD
TZOFFSETFROM:-0600
TZOFFSETTO:-0700
TZNAME:MST
DTSTART:20201101T080000
END:STANDARD
BEGIN:DAYLIGHT
TZOFFSETFROM:-0700
TZOFFSETTO:-0600
TZNAME:MDT
DTSTART:20210314T090000
END:DAYLIGHT
BEGIN:STANDARD
TZOFFSETFROM:-0600
TZOFFSETTO:-0700
TZNAME:MST
DTSTART:20211107T080000
END:STANDARD
END:VTIMEZONE
BEGIN:VEVENT
DTSTART;TZID=America/Denver:20200620T083000
DTEND;TZID=America/Denver:20200620T170000
DTSTAMP:20260425T191059
CREATED:20200527T002743Z
LAST-MODIFIED:20200527T002743Z
UID:38862-1592641800-1592672400@www.zccc.org
SUMMARY:Z Drive: Fathers Day Weekend
DESCRIPTION:Grab your favorite dad and the family and meet at Bandimere Speedway’s south parking lot used for the Master Drive Course.  The route for today’s drive will be over the Peak to Peak Highway.  You are welcome to cut off early if you would like a shorter drive\, here are your options: 1) after reaching Hwy 6-head east to Golden. 2)  ~6 miles from Black Hawk is Colorado 46\, head east\, the road will become Golden Gate Canyon Rd. and take you to Hwy 93 on the N side of Golden.  3)  ~15.5 miles from Black Hawk is Colorado 72\, Coal Creek Canyon Rd. This road takes you down to Hwy 93 between Golden and   Boulder west of Arvada.  4) ~ 18.5 mile from Black Hawk is Colorado 119 Boulder Canyon Dr.  This East bound road is in the middle of Nederland take the second exit in the round-about. You will exit Boulder canyon into the city of Boulder. \n~3.5-4 hours+ – Peak to Peak Hwy  \nThe drive is up to a ½ day or less with social distancing guidelines\, stopping for food will not be an option.  Please bring drink\, snacks and radios so we can all communicate.  For additional info and/or to let me know you are going\, please contact us.
URL:https://www.zccc.org/event/z-drive-fathers-day-weekend/
CATEGORIES:Scenic Drive
ORGANIZER;CN="ZCCC":MAILTO:admin@zccc.org
END:VEVENT
END:VCALENDAR