BEGIN:VCALENDAR
VERSION:2.0
PRODID:-//ZCCC: Z Car Club of Colorado - ECPv6.15.20//NONSGML v1.0//EN
CALSCALE:GREGORIAN
METHOD:PUBLISH
X-ORIGINAL-URL:https://www.zccc.org
X-WR-CALDESC:Events for ZCCC: Z Car Club of Colorado
REFRESH-INTERVAL;VALUE=DURATION:PT1H
X-Robots-Tag:noindex
X-PUBLISHED-TTL:PT1H
BEGIN:VTIMEZONE
TZID:America/Denver
BEGIN:DAYLIGHT
TZOFFSETFROM:-0700
TZOFFSETTO:-0600
TZNAME:MDT
DTSTART:20230312T090000
END:DAYLIGHT
BEGIN:STANDARD
TZOFFSETFROM:-0600
TZOFFSETTO:-0700
TZNAME:MST
DTSTART:20231105T080000
END:STANDARD
BEGIN:DAYLIGHT
TZOFFSETFROM:-0700
TZOFFSETTO:-0600
TZNAME:MDT
DTSTART:20240310T090000
END:DAYLIGHT
BEGIN:STANDARD
TZOFFSETFROM:-0600
TZOFFSETTO:-0700
TZNAME:MST
DTSTART:20241103T080000
END:STANDARD
BEGIN:DAYLIGHT
TZOFFSETFROM:-0700
TZOFFSETTO:-0600
TZNAME:MDT
DTSTART:20250309T090000
END:DAYLIGHT
BEGIN:STANDARD
TZOFFSETFROM:-0600
TZOFFSETTO:-0700
TZNAME:MST
DTSTART:20251102T080000
END:STANDARD
BEGIN:DAYLIGHT
TZOFFSETFROM:-0700
TZOFFSETTO:-0600
TZNAME:MDT
DTSTART:20260308T090000
END:DAYLIGHT
BEGIN:STANDARD
TZOFFSETFROM:-0600
TZOFFSETTO:-0700
TZNAME:MST
DTSTART:20261101T080000
END:STANDARD
BEGIN:DAYLIGHT
TZOFFSETFROM:-0700
TZOFFSETTO:-0600
TZNAME:MDT
DTSTART:20270314T090000
END:DAYLIGHT
BEGIN:STANDARD
TZOFFSETFROM:-0600
TZOFFSETTO:-0700
TZNAME:MST
DTSTART:20271107T080000
END:STANDARD
END:VTIMEZONE
BEGIN:VEVENT
DTSTART;TZID=America/Denver:20241026T090000
DTEND;TZID=America/Denver:20241026T120000
DTSTAMP:20260425T171431
CREATED:20241015T124805Z
LAST-MODIFIED:20241015T124805Z
UID:42557-1729933200-1729944000@www.zccc.org
SUMMARY:GATEWAY CLASSIC CARS TRUNK OR TREAT CAR SHOW
DESCRIPTION:  \nGATEWAY CLASSIC CARS TRUNK OR TREAT CAR SHOW \nSATURDAY\, OCTOBER 26\, 2024\n9:00 am to 12:00 pm \n  \nIt’s not too late to dress up with your Z and attend the Gateway Classic Cars Trunk Or\nTreat car show. In case you were planning on attending the Empire Nissan Trunk O\nTreat which was canceled\, this is a great opportunity to still show off your Z and hand\nout some candy. So\, get creative and have some fun. \n  \nThis is a non-sanctioned event.
URL:https://www.zccc.org/event/gateway-classic-cars-trunk-or-treat-car-show/
LOCATION:Gateway Classic Car Denver Showroom\, 14150 Grasslands Drive\, Englewood\, CO\, 80112\, United States
CATEGORIES:Car Show
END:VEVENT
BEGIN:VEVENT
DTSTART;TZID=America/Denver:20250830T090000
DTEND;TZID=America/Denver:20250830T120000
DTSTAMP:20260425T171431
CREATED:20240906T223228Z
LAST-MODIFIED:20250823T115110Z
UID:42508-1756544400-1756555200@www.zccc.org
SUMMARY:GATEWAY CLASSIC CARS - CAFFINE & CHROME 2025
DESCRIPTION:GATEWAY CLASSIC CARS – CAFFEINE & CHROME 2025\n \n  \nWHEN: SATURDAY AUGUST 30\,2025\nTIME: 9AM-NOON\nWHERE: Gateway Classic Cars Denver Showroom\n14150 Grasslands Drive \,Suite A \, Englewood \,CO 80112\nCOST: Free\nHOST: Patty T. \n  \nGateway Classic Cars is the World’s largest Classic Car and Exotic Car sales company with a nationwide\nnetwork of indoor \, climate controlled showrooms. ZCCC will be the FEATURED CAR CLUB August\n30\,2025 at the Gateway Classic Cars Denver Showroom . The featured car club receives:\n-Reserved Parking\n-Goodie Bags\n-Social Media Posts to Thousands\n-Up to $200 Donation to Club\n-Club Group Photo \n  \nOn August 30 there will be a special reserved space in the Gateway south parking lot for ZCCC members\nto line up their Z cars for display . Z cars should arrive about 8:45am so we can have them lined up by\n9:00 am. The public will be invited and can display their cars in other parts of the south parking lot. Car\nowners can be available to discuss their vehicles. In the parking lot\, car owners may set up folding chairs\nby their vehicles. The public is invited to walk around and view all the cars both outside and inside in the\nshowroom where there are about 200 cars mostly for sale. Coffee and pastries will be available for all.\nThere also may be food trucks . Gateway employees will be available to discuss their operation and the\ncars in the showroom. Gateway Classic Cars Staff Member Devin deSimone will be our contact to\ncoordinate the August 30 Event. \n  \nThe Gateway Classic Cars facility is most easily accessed by taking E-470 Peoria exit (Exit 2)\, proceeding\nnorth on Peoria to Compark Blvd. where you turn right and head East toward American Furniture\nWearhouse. Turn left on Highfield Pkwy. Proceed North to the facility at the intersection on Grassfield\nDrive. The facility can also be accessed from the North . Take Potomac St. off Arapahoe Rd. As you\nproceed South Potomac turns into Chambers Rd\, that will the intersect Grasslands Dr. Turn right and\nproceed West to the facility. The address appears on the West face of the building. There is also\nprobably a way to get there from Parker Rd. The main entrance is in the North side of the Building \, but\nthis event is in the parking lot on the south side. Turn in there and proceed to the spot designated for\nZCCC.
URL:https://www.zccc.org/event/42508/
LOCATION:CO
CATEGORIES:Car Show
END:VEVENT
BEGIN:VEVENT
DTSTART;TZID=America/Denver:20260328T160000
DTEND;TZID=America/Denver:20260328T183000
DTSTAMP:20260425T171431
CREATED:20260205T172300Z
LAST-MODIFIED:20260205T172314Z
UID:43210-1774713600-1774722600@www.zccc.org
SUMMARY:EMPIRE LAKEWOOD NISSAN ENE CAR SHOW
DESCRIPTION:Empire Lakewood Nissan ENE Car Show \nWhere:14707 W. Colfax Avenue\, Lakewood \nWhen: Saturday March 28\, 2026 \n4:00 PM to 6:30 PM \nCost:  Free \nHost: Patty Troxell \nPlease join us for the first car show of the year and show your support for our sponsor\, Empire Lakewood Nissan. \nWe will have reserved parking for our club.  Music\, games\, taco truck all included. \nPlan to get there early so you can park with our club. \n 
URL:https://www.zccc.org/event/empire-lakewood-nissan-ene-car-show/
LOCATION:CO
CATEGORIES:Car Show
END:VEVENT
BEGIN:VEVENT
DTSTART;TZID=America/Denver:20260607T070000
DTEND;TZID=America/Denver:20260607T150000
DTSTAMP:20260425T171431
CREATED:20260205T175715Z
LAST-MODIFIED:20260417T155217Z
UID:43218-1780815600-1780844400@www.zccc.org
SUMMARY:CONCOURS D'ELEGANCE
DESCRIPTION:CONCOURS D’ELEGANCE ANNUAL CAR SHOW \nWhen:  Sunday\, June 7\, 2026 \nHost:  Cheryle Derman \nTime:  7:00 am to 3:00 pm if you show your car.  9 AM to 3 PM walk ins \nCost: $55 registration fee to show your car \n$12 walk in fee \nOnline registration is open https://www.abilityconnectioncolorado.org/special-events/colorado-concours/ to register and all details. \nMay 10\, 2026 is the last date to sign up for elite judging ($100.00 registration fee) \nMay 15\, 2026 is last day to sign up to receive a mailed packet \nMay 16-22\, 2026 is last day to sign up on line and receive your packet at the event \nMay 22\, 2026 registration closes and this is the last day to qualify for your rebate. \nWe will reimburse members $25 per car shown on the day of the event. \nThis annual event has been attended by our club for many years.  It is put on by Ability Connection which with help of donations\, enriches lives of people with disabilities. \nThis year ZCCC will reimburse members who preregister their cars to be shown at this event. \nPlease come out to support Ability Connection and let’s have a great showing this year. \nDetails about club judging etc. will be announced when it gets closer.
URL:https://www.zccc.org/event/concours-delegance-2/
LOCATION:CO
CATEGORIES:Car Show
END:VEVENT
BEGIN:VEVENT
DTSTART;TZID=America/Denver:20260912T090000
DTEND;TZID=America/Denver:20260912T120000
DTSTAMP:20260425T171431
CREATED:20260309T153123Z
LAST-MODIFIED:20260309T153123Z
UID:43260-1789203600-1789214400@www.zccc.org
SUMMARY:MABC CAR SHOW
DESCRIPTION:The annual MABC car show hosted by Andy Mortensen will be held on September 12\, 2026.  Please look for details when it gets closer to the date.
URL:https://www.zccc.org/event/mabc-car-show-2/
LOCATION:CO
CATEGORIES:Car Show
END:VEVENT
END:VCALENDAR