BEGIN:VCALENDAR
VERSION:2.0
PRODID:-//ZCCC: Z Car Club of Colorado - ECPv6.15.20//NONSGML v1.0//EN
CALSCALE:GREGORIAN
METHOD:PUBLISH
X-WR-CALNAME:ZCCC: Z Car Club of Colorado
X-ORIGINAL-URL:https://www.zccc.org
X-WR-CALDESC:Events for ZCCC: Z Car Club of Colorado
REFRESH-INTERVAL;VALUE=DURATION:PT1H
X-Robots-Tag:noindex
X-PUBLISHED-TTL:PT1H
BEGIN:VTIMEZONE
TZID:America/Denver
BEGIN:DAYLIGHT
TZOFFSETFROM:-0700
TZOFFSETTO:-0600
TZNAME:MDT
DTSTART:20190310T090000
END:DAYLIGHT
BEGIN:STANDARD
TZOFFSETFROM:-0600
TZOFFSETTO:-0700
TZNAME:MST
DTSTART:20191103T080000
END:STANDARD
BEGIN:DAYLIGHT
TZOFFSETFROM:-0700
TZOFFSETTO:-0600
TZNAME:MDT
DTSTART:20200308T090000
END:DAYLIGHT
BEGIN:STANDARD
TZOFFSETFROM:-0600
TZOFFSETTO:-0700
TZNAME:MST
DTSTART:20201101T080000
END:STANDARD
BEGIN:DAYLIGHT
TZOFFSETFROM:-0700
TZOFFSETTO:-0600
TZNAME:MDT
DTSTART:20210314T090000
END:DAYLIGHT
BEGIN:STANDARD
TZOFFSETFROM:-0600
TZOFFSETTO:-0700
TZNAME:MST
DTSTART:20211107T080000
END:STANDARD
END:VTIMEZONE
BEGIN:VEVENT
DTSTART;TZID=America/Denver:20200711T080000
DTEND;TZID=America/Denver:20200711T120000
DTSTAMP:20260422T203526
CREATED:20200130T031425Z
LAST-MODIFIED:20200802T021101Z
UID:38628-1594454400-1594468800@www.zccc.org
SUMMARY:Vehicle Vault and Hickory House
DESCRIPTION:When: Date: Sat. July 11th\, 2020\, 8:00 am Vehicle Vault\, 12:00 pm Hickory House \nWhere: Vehicle Vault – 18301 Lincoln Meadows Parkway\, Parker\, CO 80134 \nHickory House – 10335 S. Parker Road\, Parker CO  80134 \nHost: Bruce & Cheryl McKenney \nCost: Vehicle Vault museum tour $6 to $12 depending on discount \nCome take part in the Car Club of the Month and show off your beautiful car.  The Vehicle Vault is a car museum and a custom garage community.  The museum/event center is housed in a unique building showcasing a fabulous collection of rare and exotic automobiles. The Vehicle Vault has invited ’ZCCC’ to be July’s Car Club of the Month.  Front row parking will be reserved to show off our vehicles. We will also plan on taking a tour of their gallery of cars at a discounted rate. \nAfter the tour join us for lunch at the Hickory House located a short distance away.  The Hickory House offers a variety of barbecue dishes and has won more than 100 awards for “Best Ribs” and “Best BBQ Sauce”. \nFor more information  on each of these venue’s\, please visit their web site: \nVehicle Vault: https://www.vehiclevaultco.com/ \nHickory House: http://www.hickoryhouseribs.com/parker-map.html \nPlease let Bruce or Cheryl know if you plan on attending. \nThanks-Bruce and Cheryl \n 
URL:https://www.zccc.org/event/vehicle-vault-and-hickory-house/
LOCATION:Vehical Vault\, 18301 Lincoln Meadows Parkway\,\, Parker\, CO\, 80134\, United States
CATEGORIES:Car Show
ORGANIZER;CN="ZCCC":MAILTO:admin@zccc.org
END:VEVENT
BEGIN:VEVENT
DTSTART;TZID=America/Denver:20200718T120000
DTEND;TZID=America/Denver:20200718T220000
DTSTAMP:20260422T203526
CREATED:20200629T230216Z
LAST-MODIFIED:20200802T020744Z
UID:39008-1595073600-1595109600@www.zccc.org
SUMMARY:SEB's Rec Center 2nd Annual Car Show
DESCRIPTION:SEB’s Rec Center is dedicated to empowering individuals with special needs and unique challenges through community outreach\, health and wellness recreation and education that promote learning opportunities designed to strengthen and develop lives. \nFeaturing HARD TIMES and COMPAS CO car clubs with local vendors\, food\, entertainment and much more. \nTake advantage of this opportunity to enjoy the day out with family and friend while making new connections within the community.
URL:https://www.zccc.org/event/sebs-rec-center-2nd-annual-car-show/
LOCATION:SEB Rec Center\, 1710 S Buckley Rd #9\, Aurora\, CO\, 80017\, United States
CATEGORIES:Car Show
END:VEVENT
END:VCALENDAR