BEGIN:VCALENDAR
VERSION:2.0
PRODID:-//ZCCC: Z Car Club of Colorado - ECPv6.15.20//NONSGML v1.0//EN
CALSCALE:GREGORIAN
METHOD:PUBLISH
X-ORIGINAL-URL:https://www.zccc.org
X-WR-CALDESC:Events for ZCCC: Z Car Club of Colorado
REFRESH-INTERVAL;VALUE=DURATION:PT1H
X-Robots-Tag:noindex
X-PUBLISHED-TTL:PT1H
BEGIN:VTIMEZONE
TZID:America/Denver
BEGIN:DAYLIGHT
TZOFFSETFROM:-0700
TZOFFSETTO:-0600
TZNAME:MDT
DTSTART:20190310T090000
END:DAYLIGHT
BEGIN:STANDARD
TZOFFSETFROM:-0600
TZOFFSETTO:-0700
TZNAME:MST
DTSTART:20191103T080000
END:STANDARD
BEGIN:DAYLIGHT
TZOFFSETFROM:-0700
TZOFFSETTO:-0600
TZNAME:MDT
DTSTART:20200308T090000
END:DAYLIGHT
BEGIN:STANDARD
TZOFFSETFROM:-0600
TZOFFSETTO:-0700
TZNAME:MST
DTSTART:20201101T080000
END:STANDARD
BEGIN:DAYLIGHT
TZOFFSETFROM:-0700
TZOFFSETTO:-0600
TZNAME:MDT
DTSTART:20210314T090000
END:DAYLIGHT
BEGIN:STANDARD
TZOFFSETFROM:-0600
TZOFFSETTO:-0700
TZNAME:MST
DTSTART:20211107T080000
END:STANDARD
END:VTIMEZONE
BEGIN:VEVENT
DTSTART;VALUE=DATE:20200613
DTEND;VALUE=DATE:20200614
DTSTAMP:20260422T220442
CREATED:20200524T200609Z
LAST-MODIFIED:20200624T185916Z
UID:38842-1592006400-1592092799@www.zccc.org
SUMMARY:ZCCC Virtual Shine-n-Show
DESCRIPTION:When we learned of the postponement of the Concourse d’Elegance Car Show due to the corona virus\, we decided to have a virtual shine-n-show that weekend instead. The plan was for each member to produce a couple of quality digital photos that really show it off their car. Then email one or two of the best pictures to Andy Mortenson along with their name and the model and year of their car. Andy then forwarded them to Scott Swiger who posted them on our website. Only the model\, year and an entry number was posted. As an incentive\, each member who entered their car was awarded one active member point. This was a great opportunity for members who live outside the Denver metropolitan area to show off their cars to the rest of the club without leaving home. \nWe had 22 Z Cars of various models\, plus Joe McVicker’s 2017 GT-R\, entered and posted on our website by the June 10th closing date. \nAndy put the cars into five groups with the entry numbers of the cars in each group listed to help in the judging. The GT-R had already won because it was in a class by itself\, both literally and figuratively. The cars were grouped as follows: \nGroup I (240Z/260Z/280ZX); Group II (300ZX-Z31); Group III (300ZX-Z32); Group IV (350Z); Group V (370Z); Group VI (Other). \nThe Service Managers at the three Larry Miller Nissan stores agreed to judge our cars\, so on Thursday and Friday they chose their favorite cars from each group and sent their selections to Andy who tallied the results. (Special thanks to Jodie Cordova\, Chris Doerschlag and Nick Yaw at LHM.) \nOn Saturday\, June 13th\, all the entrants were invited to participate in a Zoom conference where the winners were announced. The winners were as follows:  Group I – Scott Swiger; Group II – Alex Millward; Group III – Travis Scott; Group IV – Diana Inberg; Group V – Robert Hofer; Group VI – Joe McVicker. \nThe winners were each awarded $15.00 AutoZone electronic gift certificates. (Pictures of all the entries and the winners may be viewed at: https://bit.ly/30GzZwS). \n2020 ZCCC Virtual Shine-n-Show Results\nEntry #1: 1972 240Z\n \nEntry #2: 2005 350Z\n\n \n★ WINNER ★ Entry #3: 1991 300ZX\n\n \n★ WINNER ★ Entry #4: 2008 350Z\n\n \nEntry #5: 2005 350Z\n\n \nEntry #6: 2010 370Z\n\n \n★ WINNER ★ Entry #7: 1989 300ZXT\n\n \nEntry #8: 1993 300ZX TT\n\n \nEntry #9: 2018 370Z Heritage Edition\n\n \n★ WINNER ★ Entry #10: 2016 370Z Nismo\n\n \n★ WINNER ★ Entry #11: 2017 GT-R\n\n \nEntry #12: 1995 300ZX Convertible\n\n \nEntry #13: 2014 370Z Roadster\n\n \n★ WINNER ★ Entry #14: 1974 260Z\n\n \nEntry #15: 2005 350Z Roadster\n \nEntry #16: 1985 300ZX\n  \nEntry #17: 2007 350Z Roadster\n  \nEntry #18: 1985 300zx Turbo\n \nEntry #19: 2015 370Z Roadster\n \nEntry #20: 1990 300ZX TT\n \nEntry #21: 1971 240Z\n  \nEntry #22: 1983 280ZX Turbo\n  \nEntry #23: 1971 240Z
URL:https://www.zccc.org/event/zccc-virtual-shine-n-show/
CATEGORIES:Car Show
ORGANIZER;CN="ZCCC":MAILTO:admin@zccc.org
END:VEVENT
END:VCALENDAR