BEGIN:VCALENDAR
VERSION:2.0
PRODID:-//ZCCC: Z Car Club of Colorado - ECPv6.15.20//NONSGML v1.0//EN
CALSCALE:GREGORIAN
METHOD:PUBLISH
X-ORIGINAL-URL:https://www.zccc.org
X-WR-CALDESC:Events for ZCCC: Z Car Club of Colorado
REFRESH-INTERVAL;VALUE=DURATION:PT1H
X-Robots-Tag:noindex
X-PUBLISHED-TTL:PT1H
BEGIN:VTIMEZONE
TZID:America/Denver
BEGIN:DAYLIGHT
TZOFFSETFROM:-0700
TZOFFSETTO:-0600
TZNAME:MDT
DTSTART:20180311T090000
END:DAYLIGHT
BEGIN:STANDARD
TZOFFSETFROM:-0600
TZOFFSETTO:-0700
TZNAME:MST
DTSTART:20181104T080000
END:STANDARD
BEGIN:DAYLIGHT
TZOFFSETFROM:-0700
TZOFFSETTO:-0600
TZNAME:MDT
DTSTART:20190310T090000
END:DAYLIGHT
BEGIN:STANDARD
TZOFFSETFROM:-0600
TZOFFSETTO:-0700
TZNAME:MST
DTSTART:20191103T080000
END:STANDARD
BEGIN:DAYLIGHT
TZOFFSETFROM:-0700
TZOFFSETTO:-0600
TZNAME:MDT
DTSTART:20200308T090000
END:DAYLIGHT
BEGIN:STANDARD
TZOFFSETFROM:-0600
TZOFFSETTO:-0700
TZNAME:MST
DTSTART:20201101T080000
END:STANDARD
END:VTIMEZONE
BEGIN:VEVENT
DTSTART;TZID=America/Denver:20190810T083000
DTEND;TZID=America/Denver:20190810T150000
DTSTAMP:20260425T140444
CREATED:20190630T171733Z
LAST-MODIFIED:20190630T171733Z
UID:38050-1565425800-1565449200@www.zccc.org
SUMMARY:ZCCC Car Show at Spartan College
DESCRIPTION:The club is arranging a car show at Spartan College in Broomfield\, CO on August 10\, 2019.  Staging the cars will start at 8:30 a.m. and the show will start at 9:00 a.m. It will be the ZCCC Car Show at Spartan College and all are welcome.  The college is located at 10821 W. 120thAve\, near the old Jeffco Airport.  Basically it’s not far from Hwy 287 (Wadsworth) and Hwy 36\, the Boulder Turnpike. The college is planning to have independent judges from the college judge the cars and there will be a number of categories for the awards.  There will likely be food trucks and tents and some booths.  We’ll know more in the next few weeks.  Stay tuned and there will be more details in the next Odometer and at the monthly meetings.  If you are planning on going\, let Ira know and he’ll keep a count. \nLogin to RSVP and see the full details.
URL:https://www.zccc.org/event/zccc-car-show-at-spartan-college/
LOCATION:Spartan College\, 10821 W. 120th Ave\, Broomfield\, CO\, 80021\, United States
CATEGORIES:Car Show
ORGANIZER;CN="ZCCC":MAILTO:admin@zccc.org
END:VEVENT
BEGIN:VEVENT
DTSTART;TZID=America/Denver:20190817T070000
DTEND;TZID=America/Denver:20190817T140000
DTSTAMP:20260425T140444
CREATED:20190724T223042Z
LAST-MODIFIED:20190724T223218Z
UID:38111-1566025200-1566050400@www.zccc.org
SUMMARY:Holy Rollers Car Show
DESCRIPTION:Register your classic car\, truck or motorcycle for the 3rd Annual Holy Rollers Charity Car Show\, hosted by Knights of Columbus Council 10961. All registrations/show proceeds benefit the Society of St. Vincent de Paul. Over 150 amazing cars on display\, and 30 awards given for People’s Choice cars\, Sponsor’s Choice cars and Best In Show. Food\, drink\, music\, door prizes and family fun – all to raise money for a great cause! \nRegistration 7 am – 9 am\nShow 9 am – 2 pm\nAwards 1:30 pm \nRegister at http://holyrollerscarshow.com\n$25 in advance / $30 day of Show \nWe will meet at the show 900 W. Midway Park\, Broomfield\, Colorado \nLet Fred Minister know if you are attending and we will save spots for you to park in the same location.
URL:https://www.zccc.org/event/holy-rollers-car-show/
LOCATION:Nativity of Our Lord Catholic Church\, 900 W. Midway Blvd\, Broomfield\, CO\, 80020\, United States
CATEGORIES:Car Show
END:VEVENT
END:VCALENDAR