BEGIN:VCALENDAR
VERSION:2.0
PRODID:-//ZCCC: Z Car Club of Colorado - ECPv6.15.20//NONSGML v1.0//EN
CALSCALE:GREGORIAN
METHOD:PUBLISH
X-WR-CALNAME:ZCCC: Z Car Club of Colorado
X-ORIGINAL-URL:https://www.zccc.org
X-WR-CALDESC:Events for ZCCC: Z Car Club of Colorado
REFRESH-INTERVAL;VALUE=DURATION:PT1H
X-Robots-Tag:noindex
X-PUBLISHED-TTL:PT1H
BEGIN:VTIMEZONE
TZID:America/Denver
BEGIN:DAYLIGHT
TZOFFSETFROM:-0700
TZOFFSETTO:-0600
TZNAME:MDT
DTSTART:20180311T090000
END:DAYLIGHT
BEGIN:STANDARD
TZOFFSETFROM:-0600
TZOFFSETTO:-0700
TZNAME:MST
DTSTART:20181104T080000
END:STANDARD
BEGIN:DAYLIGHT
TZOFFSETFROM:-0700
TZOFFSETTO:-0600
TZNAME:MDT
DTSTART:20190310T090000
END:DAYLIGHT
BEGIN:STANDARD
TZOFFSETFROM:-0600
TZOFFSETTO:-0700
TZNAME:MST
DTSTART:20191103T080000
END:STANDARD
BEGIN:DAYLIGHT
TZOFFSETFROM:-0700
TZOFFSETTO:-0600
TZNAME:MDT
DTSTART:20200308T090000
END:DAYLIGHT
BEGIN:STANDARD
TZOFFSETFROM:-0600
TZOFFSETTO:-0700
TZNAME:MST
DTSTART:20201101T080000
END:STANDARD
END:VTIMEZONE
BEGIN:VEVENT
DTSTART;TZID=America/Denver:20190609T090000
DTEND;TZID=America/Denver:20190609T150000
DTSTAMP:20260425T170413
CREATED:20190301T171920Z
LAST-MODIFIED:20190422T164548Z
UID:37794-1560070800-1560092400@www.zccc.org
SUMMARY:36th Annual Colorado Concours d' Elegance
DESCRIPTION:Join us Sunday\, June 9\, 2019 for a great day filled with food\, fun\, and entertainment for the whole family! Come laugh\, have fun and mingle with “automotive related” friends and clients\, while helping us raise funds for Ability Connection Colorado’s Creative Options for Early Childhood Education Centers. \n\n\nFrom classic to collector\, vintage to the latest and greatest\, incredible cars will compete at the 36th Annual Colorado Concours d’Elegance & Exotic Sports Car Show. If you have a personal or business interest in cars\, or just want to have fun\, you will want to be there. \nJune 9TH is getting closer and the time to register your car is drawing to a close.  This the 36th year of the show and looks to be even bigger than last year. Go to www.coloradoconcourse.org for registration and to volunteer.  There is also an app for the show that you can download to your phone: ACCOTOGO.\n\nWe are in need of volunteers for various jobs on the day before the show and on the day of the show\, please if you can sign up to help a very worthy cause. \nWe will also need some people that would be willing to act as judges for the cars in our club that are being judged. We will be judging only our own cars. Same price $50.00 per car\, there will 1st\, 2nd\, 3rd place ribbons in one class so shine them up. \nThe Aspen Grove shopping center is South of the ACC campus. You can enter the shopping center’s parking lot by turning West off S Santa FE Drive onto W. Aspen Grove Way. You will meet at the north end of the lot and caravan over to the show. Like last year\, we will enter the school grounds at the North entrance off W. Church Ave. and be directed South around the East side of the campus and into our location that is the same as last year. \n\nAdmission Prices\nAdults: $9 online or $10 at gate\nChildren 12 & Under: Free\n\n\nTickets: Purchase $9 Tickets* Now! \nMembers: login to contact the ZCCC organizer.
URL:https://www.zccc.org/event/36th-annual-colorado-concours-d-elegance/
LOCATION:Arapahoe Community College\, 5900 South Santa Fe Drive\, Littleton\, CO\, 80120\, United States
CATEGORIES:Car Show
END:VEVENT
BEGIN:VEVENT
DTSTART;TZID=America/Denver:20190629T080000
DTEND;TZID=America/Denver:20190629T123000
DTSTAMP:20260425T170413
CREATED:20190614T172537Z
LAST-MODIFIED:20190614T172537Z
UID:38025-1561795200-1561811400@www.zccc.org
SUMMARY:10th Annual Bad Does Good\, Toy Run and Car Show
DESCRIPTION:There is sure to be a lot of great cars to see and this is a worthy cause. We also have plenty of Mickey Mouse and Minnie Mouse to decorate our cars and bribe the kids for awards. Your entry fee is Bring a New Toy Donation for the Children’s Hospital Toy Box.\n\nWe will meet at the Aurora Center for Active Adults at Del Mar Park at 7:30 am. We will take Peoria North to Colfax and East to Children’s Hospital.\nAddress: 30 W Del Mar Circle\, Aurora\, CO 80011\nGoogle Maps link\n\nThe show runs 8am to 12:30pm. Bring chairs\, water\, snacks and and umbrella for shade — the parking lot does get HOT HOT HOT if the sun is out. \nPlease email Ira Sanders at president@zccc.org if you are going. This way you will not get left behind or have to park away from the group.\nWear your Nissan Z or club gear to advertise the club.
URL:https://www.zccc.org/event/10th-annual-bad-does-good-toy-run-and-car-show/
LOCATION:Children’s Hospital Colorado\, 13123 East 16th Ave\, Aurora\, CO\, 80045\, United States
CATEGORIES:Car Show
END:VEVENT
END:VCALENDAR