BEGIN:VCALENDAR
VERSION:2.0
PRODID:-//ZCCC: Z Car Club of Colorado - ECPv6.15.20//NONSGML v1.0//EN
CALSCALE:GREGORIAN
METHOD:PUBLISH
X-WR-CALNAME:ZCCC: Z Car Club of Colorado
X-ORIGINAL-URL:https://www.zccc.org
X-WR-CALDESC:Events for ZCCC: Z Car Club of Colorado
REFRESH-INTERVAL;VALUE=DURATION:PT1H
X-Robots-Tag:noindex
X-PUBLISHED-TTL:PT1H
BEGIN:VTIMEZONE
TZID:America/Denver
BEGIN:DAYLIGHT
TZOFFSETFROM:-0700
TZOFFSETTO:-0600
TZNAME:MDT
DTSTART:20250309T090000
END:DAYLIGHT
BEGIN:STANDARD
TZOFFSETFROM:-0600
TZOFFSETTO:-0700
TZNAME:MST
DTSTART:20251102T080000
END:STANDARD
BEGIN:DAYLIGHT
TZOFFSETFROM:-0700
TZOFFSETTO:-0600
TZNAME:MDT
DTSTART:20260308T090000
END:DAYLIGHT
BEGIN:STANDARD
TZOFFSETFROM:-0600
TZOFFSETTO:-0700
TZNAME:MST
DTSTART:20261101T080000
END:STANDARD
BEGIN:DAYLIGHT
TZOFFSETFROM:-0700
TZOFFSETTO:-0600
TZNAME:MDT
DTSTART:20270314T090000
END:DAYLIGHT
BEGIN:STANDARD
TZOFFSETFROM:-0600
TZOFFSETTO:-0700
TZNAME:MST
DTSTART:20271107T080000
END:STANDARD
END:VTIMEZONE
BEGIN:VEVENT
DTSTART;TZID=America/Denver:20260425T180000
DTEND;TZID=America/Denver:20260425T220000
DTSTAMP:20260425T043446
CREATED:20251110T191903Z
LAST-MODIFIED:20260329T185003Z
UID:43100-1777140000-1777154400@www.zccc.org
SUMMARY:CROCK POTLUCK
DESCRIPTION:CROCK POTLUCK \nAt the Dermans \nDate:  April 25\, 2026 \nTime:  6:00 PM \nHost:  Nate Derman \nPlease join the Dermans for the annual Crockpot Luck.  Please bring your favorite crockpot recipe dish or another appetizer\, side dish or dessert.  This is always a great event to get together with fellow members and catch up.  They look forward to seeing you there. Sign up at our in-person meetings meeting. \n 
URL:https://www.zccc.org/event/crock-potluck-4/
END:VEVENT
END:VCALENDAR